BEGIN:VCALENDAR
VERSION:2.0
PRODID:-//Tassal Shop - ECPv4.6.23//NONSGML v1.0//EN
CALSCALE:GREGORIAN
METHOD:PUBLISH
X-WR-CALNAME:Tassal Shop
X-ORIGINAL-URL:https://shop.tassal.com.au
X-WR-CALDESC:Events for Tassal Shop
BEGIN:VEVENT
DTSTART;TZID=Australia/Hobart:20190720T123000
DTEND;TZID=Australia/Hobart:20190720T130000
DTSTAMP:20260423T040336
CREATED:20190618T050457Z
LAST-MODIFIED:20190618T050457Z
UID:1041-1563625800-1563627600@shop.tassal.com.au
SUMMARY:Sweet Chilli Crispy Skin Salmon
DESCRIPTION:There is nothing better than crispy skin salmon\, especially with sweet chilli sauce! We will be cooking this delicious meal in our free presentation so come along and see how it’s done! \n
URL:https://shop.tassal.com.au/event/sweet-chilli-crispy-skin-salmon/
ATTACH;FMTTYPE=image/jpeg:https://shop.tassal.com.au/wp-content/uploads/sites/4/2019/06/sweet-chilli-salmon.jpg
END:VEVENT
END:VCALENDAR