BEGIN:VCALENDAR
VERSION:2.0
PRODID:-//Tassal Shop - ECPv4.6.23//NONSGML v1.0//EN
CALSCALE:GREGORIAN
METHOD:PUBLISH
X-WR-CALNAME:Tassal Shop
X-ORIGINAL-URL:https://shop.tassal.com.au
X-WR-CALDESC:Events for Tassal Shop
BEGIN:VEVENT
DTSTART;VALUE=DATE:20181104
DTEND;VALUE=DATE:20181105
DTSTAMP:20260421T152420
CREATED:20181008T234444Z
LAST-MODIFIED:20181008T234444Z
UID:653-1541289600-1541375999@shop.tassal.com.au
SUMMARY:Spend over $100 and receive a FREE Tassal Jute Bag!
DESCRIPTION:Exclusive special offer today only! If you spend over $100 in one transaction you will receive a FREE Tassal Jute Bag! *offer can only be used once \n
URL:https://shop.tassal.com.au/event/spend-over-100-and-receive-a-free-tassal-jute-bag/
ATTACH;FMTTYPE=image/jpeg:https://shop.tassal.com.au/wp-content/uploads/sites/4/2018/02/jute-bag.jpg
END:VEVENT
END:VCALENDAR