BEGIN:VCALENDAR
VERSION:2.0
PRODID:-//Tassal Shop - ECPv4.6.23//NONSGML v1.0//EN
CALSCALE:GREGORIAN
METHOD:PUBLISH
X-WR-CALNAME:Tassal Shop
X-ORIGINAL-URL:https://shop.tassal.com.au
X-WR-CALDESC:Events for Tassal Shop
BEGIN:VEVENT
DTSTART;TZID=Australia/Hobart:20180711T123000
DTEND;TZID=Australia/Hobart:20180711T130000
DTSTAMP:20260422T113609
CREATED:20180620T040909Z
LAST-MODIFIED:20180620T040909Z
UID:506-1531312200-1531314000@shop.tassal.com.au
SUMMARY:Special Guest Chef Cooking Presentation
DESCRIPTION:The Salmon Shop is excitied to introduce Chef Peter Handy from the TAS HOTELS Association. Peter will be instore on the 2nd Wednesday of each month presenting a Tassal salmon shop recipe. On Wednesday the 11th of July he will be cooking Salmon Wonton Soup! We look forward to seeing you all – No bookings \n
URL:https://shop.tassal.com.au/event/special-guest-chef-cooking-presentation/
ATTACH;FMTTYPE=image/jpeg:https://shop.tassal.com.au/wp-content/uploads/sites/4/2018/06/34506074_1276201902511853_1551223895325933568_o.jpg
END:VEVENT
END:VCALENDAR