BEGIN:VCALENDAR
VERSION:2.0
PRODID:-//Tassal Shop - ECPv4.6.23//NONSGML v1.0//EN
CALSCALE:GREGORIAN
METHOD:PUBLISH
X-WR-CALNAME:Tassal Shop
X-ORIGINAL-URL:https://shop.tassal.com.au
X-WR-CALDESC:Events for Tassal Shop
BEGIN:VEVENT
DTSTART;TZID=Australia/Hobart:20190831T123000
DTEND;TZID=Australia/Hobart:20191014T130000
DTSTAMP:20260419T215221
CREATED:20190718T034440Z
LAST-MODIFIED:20190718T034440Z
UID:1106-1567254600-1571058000@shop.tassal.com.au
SUMMARY:Screaming Seeds cooking presentation
DESCRIPTION:We will be cooking up salmon with a whole range of the Screaming Seeds spice range that we sell in store! Come along and try all the delicious flavour combinations that Screaming Seeds has to offer! Free event. \n
URL:https://shop.tassal.com.au/event/screaming-seeds-cooking-presentation/
ATTACH;FMTTYPE=image/jpeg:https://shop.tassal.com.au/wp-content/uploads/sites/4/2019/07/Crispy-Skin-2.jpg
END:VEVENT
END:VCALENDAR