BEGIN:VCALENDAR
VERSION:2.0
PRODID:-//Tassal Shop - ECPv4.6.23//NONSGML v1.0//EN
CALSCALE:GREGORIAN
METHOD:PUBLISH
X-WR-CALNAME:Tassal Shop
X-ORIGINAL-URL:https://shop.tassal.com.au
X-WR-CALDESC:Events for Tassal Shop
BEGIN:VEVENT
DTSTART;TZID=Australia/Hobart:20190731T123000
DTEND;TZID=Australia/Hobart:20190731T133000
DTSTAMP:20260422T030922
CREATED:20190618T051127Z
LAST-MODIFIED:20190618T051127Z
UID:1052-1564576200-1564579800@shop.tassal.com.au
SUMMARY:Salmon Teriyaki Bowls
DESCRIPTION:Guest chef Peter will be making Salmon Teriyaki Bowls in this exciting free cooking presentation! Don’t miss out on the chance to learn from a chef and try some delicious Salmon! \n
URL:https://shop.tassal.com.au/event/salmon-teriyaki-bowls/
ATTACH;FMTTYPE=image/jpeg:https://shop.tassal.com.au/wp-content/uploads/sites/4/2019/06/Terriyaki-bowl-L.jpg
END:VEVENT
END:VCALENDAR