BEGIN:VCALENDAR
VERSION:2.0
PRODID:-//Tassal Shop - ECPv4.6.23//NONSGML v1.0//EN
CALSCALE:GREGORIAN
METHOD:PUBLISH
X-WR-CALNAME:Tassal Shop
X-ORIGINAL-URL:https://shop.tassal.com.au
X-WR-CALDESC:Events for Tassal Shop
BEGIN:VEVENT
DTSTART;TZID=Australia/Hobart:20221029T113000
DTEND;TZID=Australia/Hobart:20221029T120000
DTSTAMP:20260425T133818
CREATED:20221026T021232Z
LAST-MODIFIED:20221026T021311Z
UID:2343-1667043000-1667044800@shop.tassal.com.au
SUMMARY:Salmon Sausage Rolls!
DESCRIPTION:Salmon Sausage Rolls… \nJoin us instore as we put a salmon twist on a party favorite. \n
URL:https://shop.tassal.com.au/event/salmon-sausage-rolls/
ATTACH;FMTTYPE=image/jpeg:https://shop.tassal.com.au/wp-content/uploads/sites/4/2022/10/Salmon-sausage-rolls.jpg
END:VEVENT
END:VCALENDAR