BEGIN:VCALENDAR
VERSION:2.0
PRODID:-//Tassal Shop - ECPv4.6.23//NONSGML v1.0//EN
CALSCALE:GREGORIAN
METHOD:PUBLISH
X-WR-CALNAME:Tassal Shop
X-ORIGINAL-URL:https://shop.tassal.com.au
X-WR-CALDESC:Events for Tassal Shop
BEGIN:VEVENT
DTSTART;TZID=Australia/Hobart:20190717T123000
DTEND;TZID=Australia/Hobart:20190717T133000
DTSTAMP:20260423T135716
CREATED:20190618T050112Z
LAST-MODIFIED:20190618T050112Z
UID:1038-1563366600-1563370200@shop.tassal.com.au
SUMMARY:Prawn & Salmon Spaghetti Marinara
DESCRIPTION:Guest chef Peter is back\, this time Peter will be making Prawn & Salmon Spaghetti Marinara and you won’t want to miss this! Using our fresh Salmon and Prawns this recipe is sure to be a hit! Free cooking presentation. \n
URL:https://shop.tassal.com.au/event/prawn-salmon-spaghetti-marinara/
ATTACH;FMTTYPE=image/jpeg:https://shop.tassal.com.au/wp-content/uploads/sites/4/2019/06/prawn-marinara.jpg
END:VEVENT
END:VCALENDAR