BEGIN:VCALENDAR
VERSION:2.0
PRODID:-//Tassal Shop - ECPv4.6.23//NONSGML v1.0//EN
CALSCALE:GREGORIAN
METHOD:PUBLISH
X-WR-CALNAME:Tassal Shop
X-ORIGINAL-URL:https://shop.tassal.com.au
X-WR-CALDESC:Events for Tassal Shop
BEGIN:VEVENT
DTSTART;TZID=Australia/Hobart:20180314T123000
DTEND;TZID=Australia/Hobart:20180314T133000
DTSTAMP:20260421T131522
CREATED:20180223T044336Z
LAST-MODIFIED:20180223T045008Z
UID:214-1521030600-1521034200@shop.tassal.com.au
SUMMARY:How to Bake Salmon
DESCRIPTION:This simple step by step class will teach you how to bake Salmon for yourself and the family. You will be amazed at how easy and delicious it can be! \n
URL:https://shop.tassal.com.au/event/how-to-bake-salmon/
ATTACH;FMTTYPE=image/jpeg:https://shop.tassal.com.au/wp-content/uploads/sites/4/2018/02/ovenbacked.jpg
END:VEVENT
END:VCALENDAR