BEGIN:VCALENDAR
VERSION:2.0
PRODID:-//Tassal Shop - ECPv4.6.23//NONSGML v1.0//EN
CALSCALE:GREGORIAN
METHOD:PUBLISH
X-WR-CALNAME:Tassal Shop
X-ORIGINAL-URL:https://shop.tassal.com.au
X-WR-CALDESC:Events for Tassal Shop
BEGIN:VEVENT
DTSTART;TZID=Australia/Hobart:20190130T123000
DTEND;TZID=Australia/Hobart:20190130T133000
DTSTAMP:20260420T031637
CREATED:20181122T035514Z
LAST-MODIFIED:20181122T035514Z
UID:774-1548851400-1548855000@shop.tassal.com.au
SUMMARY:Guest Chef Presentation - Salmon\, Roast Pumpkin\, Feta & Spinach Salad
DESCRIPTION:We would like to welcome guest chef Peter back for the first time in 2019! Peter will be making Salmon\, Roast pumpkin\, Feta & Spinach Salad in this exclusive free presentation! No bookings required \n
URL:https://shop.tassal.com.au/event/guest-chef-presentation-salmon-roast-pumpkin-feta-spinach-salad/
ATTACH;FMTTYPE=image/jpeg:https://shop.tassal.com.au/wp-content/uploads/sites/4/2018/09/P1000412.jpg
END:VEVENT
END:VCALENDAR