BEGIN:VCALENDAR
VERSION:2.0
PRODID:-//Tassal Shop - ECPv4.6.23//NONSGML v1.0//EN
CALSCALE:GREGORIAN
METHOD:PUBLISH
X-WR-CALNAME:Tassal Shop
X-ORIGINAL-URL:https://shop.tassal.com.au
X-WR-CALDESC:Events for Tassal Shop
BEGIN:VEVENT
DTSTART;TZID=Australia/Hobart:20181017T123000
DTEND;TZID=Australia/Hobart:20181017T130000
DTSTAMP:20260419T161301
CREATED:20180913T043409Z
LAST-MODIFIED:20180913T043409Z
UID:619-1539779400-1539781200@shop.tassal.com.au
SUMMARY:Guest Chef Presentation - Salmon Ravioli w Burnt Butter Sauce
DESCRIPTION:Our guest chef Peter will be making Salmon Ravioli with a sage and burnt butter sauce. This is an exciting opportunity to watch a chef in action and learn some helpful kitchen techniques\, don’t miss out on this exciting FREE event! \n
URL:https://shop.tassal.com.au/event/guest-chef-presentation-salmon-ravioli-w-burnt-butter-sauce/
ATTACH;FMTTYPE=image/jpeg:https://shop.tassal.com.au/wp-content/uploads/sites/4/2018/08/34420738_1275623225903054_6598221204438384640_o.jpg
END:VEVENT
END:VCALENDAR