BEGIN:VCALENDAR
VERSION:2.0
PRODID:-//Tassal Shop - ECPv4.6.23//NONSGML v1.0//EN
CALSCALE:GREGORIAN
METHOD:PUBLISH
X-WR-CALNAME:Tassal Shop
X-ORIGINAL-URL:https://shop.tassal.com.au
X-WR-CALDESC:Events for Tassal Shop
BEGIN:VEVENT
DTSTART;TZID=Australia/Hobart:20191009T123000
DTEND;TZID=Australia/Hobart:20191009T133000
DTSTAMP:20260422T183958
CREATED:20190925T012211Z
LAST-MODIFIED:20190925T012211Z
UID:1189-1570624200-1570627800@shop.tassal.com.au
SUMMARY:Guest Chef Event - Salmon & seafood linguine
DESCRIPTION:Guest chef Peter will be cooking and presenting Salmon & seafood linguine in our free cooking class! This is an exclusive first time recipe so don’t miss out on this exciting event! \n
URL:https://shop.tassal.com.au/event/guest-chef-event-salmon-seafood-linguine/
ATTACH;FMTTYPE=image/jpeg:https://shop.tassal.com.au/wp-content/uploads/sites/4/2019/09/Salmon-and-Seafood-Linguine.jpg
END:VEVENT
END:VCALENDAR