BEGIN:VCALENDAR
VERSION:2.0
PRODID:-//Tassal Shop - ECPv4.6.23//NONSGML v1.0//EN
CALSCALE:GREGORIAN
METHOD:PUBLISH
X-WR-CALNAME:Tassal Shop
X-ORIGINAL-URL:https://shop.tassal.com.au
X-WR-CALDESC:Events for Tassal Shop
BEGIN:VEVENT
DTSTART;TZID=Australia/Hobart:20190914T123000
DTEND;TZID=Australia/Hobart:20190914T130000
DTSTAMP:20260421T210410
CREATED:20190813T025134Z
LAST-MODIFIED:20190813T025134Z
UID:1144-1568464200-1568466000@shop.tassal.com.au
SUMMARY:Greek Salmon Kebabs
DESCRIPTION:This recipe is perfect to make for your friends at your next BBQ! It also takes no time at all to prepare. Free cooking presentation! \n
URL:https://shop.tassal.com.au/event/greek-salmon-kebabs/
ATTACH;FMTTYPE=image/jpeg:https://shop.tassal.com.au/wp-content/uploads/sites/4/2019/08/Greek-kebabs.jpg
END:VEVENT
END:VCALENDAR