BEGIN:VCALENDAR
VERSION:2.0
PRODID:-//Tassal Shop - ECPv4.6.23//NONSGML v1.0//EN
CALSCALE:GREGORIAN
METHOD:PUBLISH
X-WR-CALNAME:Tassal Shop
X-ORIGINAL-URL:https://shop.tassal.com.au
X-WR-CALDESC:Events for Tassal Shop
BEGIN:VEVENT
DTSTART;VALUE=DATE:20190714
DTEND;VALUE=DATE:20190715
DTSTAMP:20260423T195717
CREATED:20190618T045906Z
LAST-MODIFIED:20190618T045906Z
UID:1036-1563062400-1563148799@shop.tassal.com.au
SUMMARY:Double Stamp Day!
DESCRIPTION:For today only you will receive 2 stamps instead of 1 on your loyalty card! If you don’t already have one ask one of our friendly staff today! *Terms and conditions apply \n
URL:https://shop.tassal.com.au/event/double-stamp-day-12/
ATTACH;FMTTYPE=image/png:https://shop.tassal.com.au/wp-content/uploads/sites/4/2018/03/Loyalty-Card.png
END:VEVENT
END:VCALENDAR