BEGIN:VCALENDAR
VERSION:2.0
PRODID:-//Tassal Shop - ECPv4.6.23//NONSGML v1.0//EN
CALSCALE:GREGORIAN
METHOD:PUBLISH
X-WR-CALNAME:Tassal Shop
X-ORIGINAL-URL:https://shop.tassal.com.au
X-WR-CALDESC:Events for Tassal Shop
BEGIN:VEVENT
DTSTART;TZID=Australia/Hobart:20230311T113000
DTEND;TZID=Australia/Hobart:20230311T120000
DTSTAMP:20260425T232955
CREATED:20221109T003557Z
LAST-MODIFIED:20230307T040631Z
UID:2369-1678534200-1678536000@shop.tassal.com.au
SUMMARY:Cooking Demo!!
DESCRIPTION:Quick Prawn Stir-fry… \nThis dish will make the Perfect mid-week dinner. \nJoin us in the Kitchen to see for yourself. \n  \n  \n
URL:https://shop.tassal.com.au/event/cooking-demo-2/
ATTACH;FMTTYPE=image/jpeg:https://shop.tassal.com.au/wp-content/uploads/sites/4/2022/11/Quick-Prawn-stirfry.jpg
END:VEVENT
END:VCALENDAR